BEGIN:VCALENDAR
VERSION:2.0
PRODID:-//La Niouguen&#039;s - ECPv6.15.20//NONSGML v1.0//EN
CALSCALE:GREGORIAN
METHOD:PUBLISH
X-WR-CALNAME:La Niouguen&#039;s
X-ORIGINAL-URL:https://niouguens.ch
X-WR-CALDESC:Évènements pour La Niouguen&#039;s
REFRESH-INTERVAL;VALUE=DURATION:PT1H
X-Robots-Tag:noindex
X-PUBLISHED-TTL:PT1H
BEGIN:VTIMEZONE
TZID:Europe/Paris
BEGIN:DAYLIGHT
TZOFFSETFROM:+0100
TZOFFSETTO:+0200
TZNAME:CEST
DTSTART:20140330T010000
END:DAYLIGHT
BEGIN:STANDARD
TZOFFSETFROM:+0200
TZOFFSETTO:+0100
TZNAME:CET
DTSTART:20141026T010000
END:STANDARD
BEGIN:DAYLIGHT
TZOFFSETFROM:+0100
TZOFFSETTO:+0200
TZNAME:CEST
DTSTART:20150329T010000
END:DAYLIGHT
BEGIN:STANDARD
TZOFFSETFROM:+0200
TZOFFSETTO:+0100
TZNAME:CET
DTSTART:20151025T010000
END:STANDARD
BEGIN:DAYLIGHT
TZOFFSETFROM:+0100
TZOFFSETTO:+0200
TZNAME:CEST
DTSTART:20160327T010000
END:DAYLIGHT
BEGIN:STANDARD
TZOFFSETFROM:+0200
TZOFFSETTO:+0100
TZNAME:CET
DTSTART:20161030T010000
END:STANDARD
END:VTIMEZONE
BEGIN:VEVENT
DTSTART;VALUE=DATE:20150321
DTEND;VALUE=DATE:20150323
DTSTAMP:20260421T231638
CREATED:20181002T031908Z
LAST-MODIFIED:20181002T031908Z
UID:212914-1426896000-1427068799@niouguens.ch
SUMMARY:Carnaval d'Orbe
DESCRIPTION:
URL:https://niouguens.ch/event/carnaval-dorbe-2/
LOCATION:Orbe\, Orbe\, VD\, 1350\, Suisse
CATEGORIES:Brandons / Carnaval
END:VEVENT
END:VCALENDAR