BEGIN:VCALENDAR
VERSION:2.0
PRODID:-//La Niouguen&#039;s - ECPv6.15.20//NONSGML v1.0//EN
CALSCALE:GREGORIAN
METHOD:PUBLISH
X-WR-CALNAME:La Niouguen&#039;s
X-ORIGINAL-URL:https://niouguens.ch
X-WR-CALDESC:Évènements pour La Niouguen&#039;s
REFRESH-INTERVAL;VALUE=DURATION:PT1H
X-Robots-Tag:noindex
X-PUBLISHED-TTL:PT1H
BEGIN:VTIMEZONE
TZID:Europe/Paris
BEGIN:DAYLIGHT
TZOFFSETFROM:+0100
TZOFFSETTO:+0200
TZNAME:CEST
DTSTART:20240331T010000
END:DAYLIGHT
BEGIN:STANDARD
TZOFFSETFROM:+0200
TZOFFSETTO:+0100
TZNAME:CET
DTSTART:20241027T010000
END:STANDARD
BEGIN:DAYLIGHT
TZOFFSETFROM:+0100
TZOFFSETTO:+0200
TZNAME:CEST
DTSTART:20250330T010000
END:DAYLIGHT
BEGIN:STANDARD
TZOFFSETFROM:+0200
TZOFFSETTO:+0100
TZNAME:CET
DTSTART:20251026T010000
END:STANDARD
BEGIN:DAYLIGHT
TZOFFSETFROM:+0100
TZOFFSETTO:+0200
TZNAME:CEST
DTSTART:20260329T010000
END:DAYLIGHT
BEGIN:STANDARD
TZOFFSETFROM:+0200
TZOFFSETTO:+0100
TZNAME:CET
DTSTART:20261025T010000
END:STANDARD
END:VTIMEZONE
BEGIN:VEVENT
DTSTART;TZID=Europe/Paris:20250308T093000
DTEND;TZID=Europe/Paris:20250309T193000
DTSTAMP:20260423T210900
CREATED:20240814T152632Z
LAST-MODIFIED:20240814T152632Z
UID:216461-1741426200-1741548600@niouguens.ch
SUMMARY:Brandons de Payerne
DESCRIPTION:Cette année\, notre agenda est plutôt régional. Evénement incontournable de la Broye\, retrouvez-nous aux Brandons de Payerne! 
URL:https://niouguens.ch/event/brandons-de-payerne-3/
CATEGORIES:Brandons / Carnaval
ATTACH;FMTTYPE=image/jpeg:https://niouguens.ch/wp-content/uploads/2024/08/payerne-jpg.webp
END:VEVENT
END:VCALENDAR